BEGIN:VCALENDAR
VERSION:2.0
PRODID:-//LEADing Lights - ECPv4.9.0//NONSGML v1.0//EN
CALSCALE:GREGORIAN
METHOD:PUBLISH
X-WR-CALNAME:LEADing Lights
X-ORIGINAL-URL:https://leadinglights.cewa.edu.au
X-WR-CALDESC:Events for LEADing Lights
BEGIN:VEVENT
DTSTART;TZID=UTC:20180516T090000
DTEND;TZID=UTC:20180516T120000
DTSTAMP:20200302T141010
CREATED:20180427T051451Z
LAST-MODIFIED:20180509T054132Z
UID:41901-1526461200-1526472000@leadinglights.cewa.edu.au
SUMMARY:What's new in Windows 10? 3D and Mixed Reality
DESCRIPTION:In this workshop we will explore some of the new features in Windows 10\, focussing on 3D objects\, mixed reality and video editing – and how these can be used to enhance learning and teaching. \nExplore the new Paint 3D app to create and edit 3D objects. \nEnhance your videos with 3D objects and animated characters to tell stories in a whole new way with mixed reality and amazing special effects. Draw on a photo with Windows Ink to highlight something for your audience. Draw on a video\, and the ink will track an object in your scene. You can use your own music\, or let Story Remix supply a soundtrack that is customized to match your story. \n  \nExperience Mixed reality: drop 3D objects into the real world\, resize them then\, using the Mixed Reality Viewer\, walk around the object and see it from all sides.\nLearn\, play and share ideas for using the new features of Windows 10 in the classroom. \nSuitable for all classroom teachers. \nIt is recommended that you bring a Windows 10 laptop with the Fall Creators Update (Oct 2017) installed. We will also have spare Surface Pros for teachers to borrow. \nIf you have any questions\, please email Steven Payne: v-stpay@microsoft.com \nParking: if you are driving\, please park in the underground carpark\, we can then validate your ticket for free parking. If the underground carpark is full\, please park outside and come in to get a parking pass. \nRegister here: https://www.eventbrite.com.au/o/steven-payne-16718674199 \n  \n
URL:https://leadinglights.cewa.edu.au/event/whats-new-in-windows-10-3d-and-mixed-reality/
CATEGORIES:Microsoft Training Events
ATTACH;FMTTYPE=image/jpeg:/wp-content/uploads/2018/04/windows-10-event.jpg
END:VEVENT
END:VCALENDAR