BEGIN:VCALENDAR
VERSION:2.0
PRODID:-//LEADing Lights - ECPv4.9.0//NONSGML v1.0//EN
CALSCALE:GREGORIAN
METHOD:PUBLISH
X-WR-CALNAME:LEADing Lights
X-ORIGINAL-URL:https://leadinglights.cewa.edu.au
X-WR-CALDESC:Events for LEADing Lights
BEGIN:VEVENT
DTSTART;VALUE=DATE:20181105
DTEND;VALUE=DATE:20181106
DTSTAMP:20200302T134231
CREATED:20180505T054256Z
LAST-MODIFIED:20180508T055025Z
UID:43051-1541376000-1541462399@leadinglights.cewa.edu.au
SUMMARY:LEADing Lights PL Day - St Bernadette's
DESCRIPTION:
URL:https://leadinglights.cewa.edu.au/event/leading-lights-pl-day-st-bernadettes/
LOCATION:Port Kennedy
END:VEVENT
END:VCALENDAR