BEGIN:VCALENDAR
VERSION:2.0
PRODID:-//LEADing Lights - ECPv4.9.0//NONSGML v1.0//EN
CALSCALE:GREGORIAN
METHOD:PUBLISH
X-WR-CALNAME:LEADing Lights
X-ORIGINAL-URL:https://leadinglights.cewa.edu.au
X-WR-CALDESC:Events for LEADing Lights
BEGIN:VEVENT
DTSTART;TZID=UTC:20181016T150000
DTEND;TZID=UTC:20181016T170000
DTSTAMP:20200302T134130
CREATED:20180427T051542Z
LAST-MODIFIED:20181006T130420Z
UID:42071-1539702000-1539709200@leadinglights.cewa.edu.au
SUMMARY:CEWA Technical Community LIVE
DESCRIPTION:CEWA Technical Community Unite! \nTopic: tbc \nHosts:\nLee Swift – System and Storage Administrator\nBen Beaton – Digital Transformation School Program Manager (IT Leaders)\nJames Deacon – Digital Transformation Cloud Architect \n[cid:image001.png@01D3B9E1.DDD26650] \n
URL:https://leadinglights.cewa.edu.au/event/cewa-technical-community-live-6/
LOCATION:Flexi 1 Newman Siena Centre
CATEGORIES:Technical Community Live Sessions
END:VEVENT
END:VCALENDAR